BEGIN:VCALENDAR
PRODID:NingEventWidget-v1
VERSION:2.0
METHOD:PUBLISH
BEGIN:VEVENT
UID:5167423:Event:173582
DTSTAMP:20260425T192445Z
SUMMARY:Carlisle Chrysler Nationals
DESCRIPTION:Like \"Carlisle All-Chrysler Nationals\" on Facebook for A
 LL event updates & information!!\n\nAdult Admission: Daily Fri.- Sat.
  $15 / Sun $7 / Event Pass $30Thursday - Set Up/Load In Day - $12Kids 
 12 and Under FREE Event Hours Fri-Sat 7am-6pm , Sun 7am-3pm\n\nWelco
 me to a true Mopar-lover’s paradise. There’s nothing quite like it
  anywhere in the world with nearly 3,000 vehicles from all eras of the
  Chrysler brand, classics, muscle cars, high-performance new models al
 l converge on Carlisle for a one of a kind weekend. You need to be her
 e for the enormous showfield that is organized by year, make and model
 , special indoor displays, activities for the kids, industry guests, a
 nd special prizes. Interested in parts buying? Look no further! You’
 ll be amazed at the size of the swap meet, the variety of vendors, the
  car corral and the Manufacturers Midway. Whether you prefer the A, B 
 or E body style – this show has it all! By popular demand, gates ar
 e open Thursday at a full-price admission, though parking is FREE. Thu
 rsday is a set up/load in day for both vendors and those showing cars.
  By attending Thursday, you just might find a steal of a deal within t
 he swap meet or on the midway. You can also catch a glimpse of the act
 ion before anyone else. Thursday evening features a FREE kick off part
 y at the neighboring Carlisle Expo Center as well.\n\nOnline showfield
  registration is available for the this year’s event through the we
 ek of the event.\n\nFor more information visit https://northeastwheels
 events.com/events/carlisle-chrysler-nationals-3
DTSTART:20180713T110000Z
DTEND:20180715T190000Z
CATEGORIES:car, show
LOCATION:Carlisle Fairgrounds
WEBSITE:http://www.carlisleevents.com/carlisle-events/carlisle-chrysle
 r-nationals/default.aspx
URL:http://www.carlisleevents.com/carlisle-events/carlisle-chrysler-na
 tionals/default.aspx
CONTACT:7172437855
ORGANIZER:Carlisle Events
ATTACH;FMTTYPE="image/jpeg":http://storage.ning.com/topology/rest/1.0/
 file/get/2284101354?profile=original
ATTENDEE;ROLE=REQ-PARTICIPANT;PARTSTAT=ACCEPTED;RSVP=TRUE;CN="Carlisle
  Events":https://northeastwheelsevents.com/profile/MichaelGarland
END:VEVENT
END:VCALENDAR
