BEGIN:VCALENDAR
PRODID:NingEventWidget-v1
VERSION:2.0
METHOD:PUBLISH
BEGIN:VEVENT
UID:5167423:Event:219446
DTSTAMP:20260423T023235Z
SUMMARY:Carlisle Ford Nationals
DESCRIPTION:The entire family will enjoy the largest and most thrillin
 g all-Ford event in the world. Ford, Mercury and Lincoln fans will hav
 e a showcase of over 3,000 vehicles to check out on the National Parts
  Depot showfield. During this event, you will enjoy great indoor displ
 ays of concepts, customs and historically-significant cars and trucks;
  test drives by Ford Motor Company, a burnout competition, activities 
 for the kids, industry guests, giveaways, autocross for all skill leve
 ls and club gatherings. The excitement continues with a shopping exper
 ience you won’t soon forget as part of the enormous automotive flea 
 market, car corral and the Manufacturers Midway for the best in parts 
 buying.\n\nFor more information visit https://northeastwheelsevents.co
 m/events/carlisle-ford-nationals-4
DTSTART:20190531T040000Z
DTEND:20190603T035900Z
CATEGORIES:car, show
LOCATION:Carlisle PA Fairgrounds
WEBSITE:http://www.carlisleevents.com/carlisle-events/carlisle-ford-na
 tionals/default.aspx
URL:http://www.carlisleevents.com/carlisle-events/carlisle-ford-nation
 als/default.aspx
CONTACT:7172437855
ORGANIZER:Carlisle Events
ATTACH;FMTTYPE="image/jpeg":http://storage.ning.com/topology/rest/1.0/
 file/get/2284112349?profile=original
ATTENDEE;ROLE=REQ-PARTICIPANT;PARTSTAT=ACCEPTED;RSVP=TRUE;CN="Carlisle
  Events":https://northeastwheelsevents.com/profile/MichaelGarland
END:VEVENT
END:VCALENDAR
