BEGIN:VCALENDAR
PRODID:NingEventWidget-v1
VERSION:2.0
METHOD:PUBLISH
BEGIN:VEVENT
UID:5167423:Event:322957
DTSTAMP:20260421T045324Z
SUMMARY:Carlisle GM Nationals
DESCRIPTION:Experience the thrill of automotive excellence at the Carl
 isle GM Nationals, happening June 21-22, 2024. Showcasing a spectacula
 r array of nearly 1,000 General Motors vehicles on the expansive Natio
 nal Parts Depot Showfield, this gathering is a paradise for enthusiast
 s and admirers alike. Beyond the showfield, the event pulses with exci
 tement through high-octane competitions such as the Rolling Burnout & 
 Donut Contest, where tire meets asphalt in a symphony of smoke and pow
 er. Engage in the symphony of roaring engines at the Exhaust Contest, 
 or witness precision driving mastery during the Real Street Shootout C
 ontest. The Carlisle GM Nationals is not just an event; it's a celebra
 tion of automotive passion, innovation, and the unparalleled thrill of
  the GM legacy. Join us for an unforgettable weekend where the spirit 
 of General Motors comes to life!\n\nFor five decades, Carlisle Events 
 has stood as the premier host of the world's finest car shows and auto
 motive events, captivating enthusiasts with an unparalleled showcase o
 f automotive excellence. This milestone not only commemorates a rich h
 istory but also anticipates an exciting future of continued passion, i
 nnovation, and dedication to the automotive community. Come celebrate 
 50 years with Carlisle Events this year!\n\nCarlisle GM Nationals\nJun
 e 21-22, 2024\nCarlisle Fairgrounds – 1000 Bryn Mawr Rd., Carlisle, 
 PA 17013\nFriday – Saturday: 7AM – 6PM\n\nFor more information vis
 it https://northeastwheelsevents.com/events/carlisle-gm-nationals-5
DTSTART:20240621T110000Z
DTEND:20240622T220000Z
CATEGORIES:car, show, swap, meet, corral
LOCATION:Carlisle Fairgrounds
WEBSITE:https://carlisleevents.com/events/events-detail/index?id=gm+na
 tionals
URL:https://carlisleevents.com/events/events-detail/index?id=gm+nation
 als
CONTACT:7172437855
ORGANIZER;CN="Carlisle Events":https://northeastwheelsevents.com/profi
 le/MichaelGarland
ATTACH;FMTTYPE="image/jpeg":https://storage.ning.com/topology/rest/1.0
 /file/get/12296230489?profile=original
ATTENDEE;ROLE=REQ-PARTICIPANT;PARTSTAT=ACCEPTED;RSVP=TRUE;CN="Carlisle
  Events":https://northeastwheelsevents.com/profile/MichaelGarland
END:VEVENT
END:VCALENDAR
