BEGIN:VCALENDAR
PRODID:NingEventWidget-v1
VERSION:2.0
METHOD:PUBLISH
BEGIN:VEVENT
UID:5167423:Event:173380
DTSTAMP:20260425T160647Z
SUMMARY:Carlisle Hurst Nationals
DESCRIPTION:Like \"Carlisle Hurst Nationals\" on Facebook for ALL even
 t updates & information!!\n\nAdult Admission: Fri & Sat $12 Kids 12 
 and Under FREE Event Hours Fri-Sat 7am-6pm\n\nWelcome to the Hurst N
 ationals, Powered by Carlisle Events - the first-ever event dedicated 
 to all vehicles prepared by Hurst! Hosted at the Carlisle Expo Center 
 (located just a block away from the fairgrounds), hundreds of vehicles
  will gather for this milestone event. All makes and models of cars pr
 oduced by Hurst are welcome and encouraged to attend. Whether you own 
 a Hurst/Olds, SC/Rambler, a GSS Dart or any other Hurst-prepared vehic
 le, this is a can't-miss show! Hurst has a long and illustrious histor
 y of producing some truly amazing performance cars, so why not have a 
 show dedicated to all of them? This is why Carlisle Events, one of the
  biggest names in car show production, has added the Hurst Nationals t
 o our roster of events. You can expect the same level of Carlisle prof
 essionalism and organization but at a whole new facility with a whole 
 new feel.\n\nSpecial Hurst seminars, Hurst-related celebrity guests an
 d engineers as well as a special display of vehicles inside the air-co
 nditioned Expo Center will help to round out this Hurst-lover's paradi
 se. What's more, all show car owners and walk-in customers will get FR
 EE access to our Chrysler Nationals event, held across the street at t
 he Carlisle Fairgrounds. This means you can attend the world's only al
 l Hurst-themed show and go to the biggest Chrysler show on the planet 
 all for one low price.\n\nFor more information visit https://northeast
 wheelsevents.com/events/carlisle-hurst-nationals
DTSTART:20180713T110000Z
DTEND:20180714T220000Z
CATEGORIES:car, show
LOCATION:Carlisle Expo Center
WEBSITE:http://www.carlisleevents.com/carlisle-events/hurst-nationals/
 default.aspx
URL:http://www.carlisleevents.com/carlisle-events/hurst-nationals/defa
 ult.aspx
CONTACT:7172437855
ORGANIZER:Carlisle Events
ATTACH;FMTTYPE="image/jpeg":http://storage.ning.com/topology/rest/1.0/
 file/get/2284101395?profile=original
ATTENDEE;ROLE=REQ-PARTICIPANT;PARTSTAT=ACCEPTED;RSVP=TRUE;CN="Carlisle
  Events":https://northeastwheelsevents.com/profile/MichaelGarland
END:VEVENT
END:VCALENDAR
