BEGIN:VCALENDAR
PRODID:NingEventWidget-v1
VERSION:2.0
METHOD:PUBLISH
BEGIN:VEVENT
UID:5167423:Event:219727
DTSTAMP:20260422T115132Z
SUMMARY:Carlisle Import and Performance Nationals
DESCRIPTION:The Carlisle Import & Performance Nationals welcomes the w
 orld of cars transcending all marques, scenes and styles of Import and
  Performance vehicles. This exciting event welcomes Imported vehicles 
 from around the world as well as domestics, kit cars, motorcycles and 
 trucks and high end performance vehicles. See the top builds, restorat
 ions, clubs and brands representing the world of automobiles and perfo
 rmance. Join us for your high-octane adrenaline fix with autocross, dr
 ifting, rolling exhaust competition, burnouts and more.\n\nFor more in
 formation visit https://northeastwheelsevents.com/events/carlisle-impo
 rt-amp-performance-nationals-1
DTSTART:20190517T040000Z
DTEND:20190520T035900Z
CATEGORIES:car, show
LOCATION:Carlisle PA Fairgrounds
WEBSITE:http://www.carlisleevents.com/carlisle-events/carlisle-import-
 and-performance-nationals/default.aspx
URL:http://www.carlisleevents.com/carlisle-events/carlisle-import-and-
 performance-nationals/default.aspx
CONTACT:7172437855
ORGANIZER:Carlisle Events
ATTACH;FMTTYPE="image/jpeg":http://storage.ning.com/topology/rest/1.0/
 file/get/2284112324?profile=original
ATTENDEE;ROLE=REQ-PARTICIPANT;PARTSTAT=ACCEPTED;RSVP=TRUE;CN="Carlisle
  Events":https://northeastwheelsevents.com/profile/MichaelGarland
END:VEVENT
END:VCALENDAR
