BEGIN:VCALENDAR
PRODID:NingEventWidget-v1
VERSION:2.0
METHOD:PUBLISH
BEGIN:VEVENT
UID:5167423:Event:17419
DTSTAMP:20260422T030814Z
SUMMARY:Carlisle Import & Kit Nationals
DESCRIPTION:This is a truly unique and engaging festival that showcase
 s over 1,200 classic and high-performance vehicles.  Take a tour thro
 ugh the grounds to enjoy imports and kit cars from at least seven diff
 erent countries, representing thirty-seven unique manufacturers.  Don
 ’t miss the unbeatable parts shopping experience and a vending oppor
 tunity without comparison.  Bring the family for a weekend full of fu
 n with everything from prizes via the Passport Program to onsite autoc
 ross racing, club gatherings, cruises to historic scenic locations and
  even an activities area devoted to kids – the future of the hobby.\
 n\nFor more information visit https://northeastwheelsevents.com/events
 /carlisle-import-kit-nationals-1
DTSTART:20150515T040000Z
DTEND:20150518T035900Z
CATEGORIES:car, show
LOCATION:Carlisle PA Fairgrounds
WEBSITE:http://www.carlisleevents.com/carlisle-events/carlisle-import-
 kit-nationals/default.aspx
URL:http://www.carlisleevents.com/carlisle-events/carlisle-import-kit-
 nationals/default.aspx
CONTACT:717-243-7855
ORGANIZER:Carlisle Events
ATTACH;FMTTYPE="image/jpeg":http://api.ning.com:80/files/Qpm74rsDFclk2
 lqkRY7v7MBhBYc0WPRs8hjNo8PZUJVPa9SySxyCsDK6N4XRH6sDN9qKHstfdpTVuYlNtnc
 LnaNxpFSmZFOF/Import.jpg
ATTENDEE;ROLE=REQ-PARTICIPANT;PARTSTAT=ACCEPTED;RSVP=TRUE;CN="Chatley 
 Jeffries":https://northeastwheelsevents.com/profile/ChatleyJeffries
ATTENDEE;ROLE=REQ-PARTICIPANT;PARTSTAT=ACCEPTED;RSVP=TRUE;CN="Visual R
 eality CC":https://northeastwheelsevents.com/profile/VisualReality
ATTENDEE;ROLE=REQ-PARTICIPANT;PARTSTAT=ACCEPTED;RSVP=TRUE;CN="Carlisle
  Events":https://northeastwheelsevents.com/profile/MichaelGarland
ATTENDEE;ROLE=REQ-PARTICIPANT;PARTSTAT=ACCEPTED;RSVP=TRUE;CN="Shawn Mc
 New":https://northeastwheelsevents.com/profile/ShawnMcNew
END:VEVENT
END:VCALENDAR
