BEGIN:VCALENDAR
PRODID:NingEventWidget-v1
VERSION:2.0
METHOD:PUBLISH
BEGIN:VEVENT
UID:5167423:Event:61759
DTSTAMP:20260422T163954Z
SUMMARY:Carlisle MINI \"Cabin Fever\" Run Sat. Jan. 17 (Dillsburg to Y
 ork, PA)
DESCRIPTION:Enjoy a little January outing with Carlisle MINI Club, enj
 oying a little respite from the cold January days!Â  The event will be
 gin at the Dill Tavern, 305 N. Baltimore Street, Dillsburg PA (off Rou
 te 15 South) and conclude at Logan's Steakhouse near Route 30 and 74 i
 n York, PA.Â \n\nMeet up time is 11 am and we can anticipate being at 
 Logan's around noon-12:30 for lunch...all on your own.\n\nSign up at:Â
   Carlisle MINI, January Run\n\nFor more information visit https://nor
 theastwheelsevents.com/events/carlisle-mini-cabin-fever-run-sat-jan-17
 -dillsburg-to-york-pa
DTSTART:20150117T160000Z
DTEND:20150117T190000Z
CATEGORIES:car, club, driving, tour, -, minimal, skill, level
LOCATION:Dillsburg and York, PA Vicinity
WEBSITE:http://www.meetup.com/CarlisleMINI/
URL:http://www.meetup.com/CarlisleMINI/
CONTACT:
ORGANIZER;CN="Tom Long":https://northeastwheelsevents.com/profile/TomL
 ong
ATTACH;FMTTYPE="image/jpeg":http://storage.ning.com/topology/rest/1.0/
 file/get/2284065554?profile=original
ATTENDEE;ROLE=REQ-PARTICIPANT;PARTSTAT=ACCEPTED;RSVP=TRUE;CN="Tom Long
 ":https://northeastwheelsevents.com/profile/TomLong
END:VEVENT
END:VCALENDAR
