BEGIN:VCALENDAR
PRODID:NingEventWidget-v1
VERSION:2.0
METHOD:PUBLISH
BEGIN:VEVENT
UID:5167423:Event:17612
DTSTAMP:20260421T211439Z
SUMMARY:Carlisle Performance & Style
DESCRIPTION:Carlisle Performance & Style is more than a car show; P&S 
 is a motorsports and lifestyle festival that celebrates the hottest an
 d ever evolving trends in the motorsports world.   The second weeken
 d of May at the Carlisle PA Fairgrounds will once again be home to the
  hottest, loudest, fastest and most tricked-out cars, trucks and SUVs 
 on the East Coast.  You’ll find over 1,500 custom compacts tuners, 
 modern muscle cars, VIP sedans, SUVs, mini trucks and more on the show
 field.   Add to that a great array of displays, guests, stunts, live
  music, competitions and more to complete the true festival atmosphere
 .\n\nFor more information visit https://northeastwheelsevents.com/even
 ts/carlisle-performance-style-1
DTSTART:20150717T040000Z
DTEND:20150720T035900Z
CATEGORIES:car, show
LOCATION:Carlisle PA Fairgrounds
WEBSITE:http://www.carlisleevents.com/carlisle-events/carlisle-perform
 ance-style/default.aspx
URL:http://www.carlisleevents.com/carlisle-events/carlisle-performance
 -style/default.aspx
CONTACT:717-243-7855
ORGANIZER:Carlisle Events
ATTACH;FMTTYPE="image/jpeg":http://storage.ning.com/topology/rest/1.0/
 file/get/2284048679?profile=original
ATTENDEE;ROLE=REQ-PARTICIPANT;PARTSTAT=ACCEPTED;RSVP=TRUE;CN="Carlisle
  Events":https://northeastwheelsevents.com/profile/MichaelGarland
ATTENDEE;ROLE=REQ-PARTICIPANT;PARTSTAT=TENTATIVE;RSVP=TRUE;CN="Shawn M
 cNew":https://northeastwheelsevents.com/profile/ShawnMcNew
END:VEVENT
END:VCALENDAR
