BEGIN:VCALENDAR
PRODID:NingEventWidget-v1
VERSION:2.0
METHOD:PUBLISH
BEGIN:VEVENT
UID:5167423:Event:183544
DTSTAMP:20260422T141446Z
SUMMARY:CARnival Car Show and 15th Anniversary Celebration
DESCRIPTION:We are looking forward to our Annual Museum CARnival Car S
 how on June 16 from 9 AM to 2 PM here on the beautiful grounds of the 
 AACA Museum in Hershey, PA. We will also be celebrating our 15th Anniv
 ersary with a fabulous celebration!Join us for this fun-filled day as 
 we welcome all makes, models, and years of vehicles to be a part of th
 e show. The Car Show will also include tailgating on the lawn, visit a
  variety of vendor booths, participate in a 50/50 drawing and People's
  Choice contest, enjoy family-friendly activities, entertainment, food
  vendors, our popular Valve Cover Racing and more!New to this year is 
 Tethered Hot Air Balloon Rides! Float up in the air while tethered to 
 the ground for a glimpse of the town of Hershey. Tethered rides will b
 e available for $15 per person in celebration of our 15th Anniversary!
  Hot Air Balloon Rides are weather permitting. For more information an
 d to register, visit http://www.aacamuseum.org/annual-museum-carnival-
 car-show/ There is no admission fee to the CAR show area or for the ac
 tivities. The Behind the Scenes Tour is by donation. Admission to the 
 AACA Museum exhibits is $12 for Adults, $11 for Seniors, and $9 for Ju
 niors. Admission is FREE for children 3 & under, Museum Members, and A
 ACA Members with their membership card. Online Vehicle Registration: h
 ttps://www.motorsportreg.com/events/aaca-museum-carnival-179460 Downlo
 ad form here: http://files.constantcontact.com/640e9229001/5f8d1ffb-4c
 0a-44ee-a8a9-36b0347eb86a.pdf\n\nFor more information visit https://no
 rtheastwheelsevents.com/events/carnival-car-show-and-15th-anniversary-
 celebration
DTSTART:20180616T130000Z
DTEND:20180616T180000Z
CATEGORIES:car, show
LOCATION:AACA Museum, Inc.
WEBSITE:https://www.aacamuseum.org/
URL:https://www.aacamuseum.org/
CONTACT:7175667100
ORGANIZER:AACA Museum, Inc.
ATTACH;FMTTYPE="image/jpeg":http://storage.ning.com/topology/rest/1.0/
 file/get/2284105668?profile=original
ATTENDEE;ROLE=REQ-PARTICIPANT;PARTSTAT=ACCEPTED;RSVP=TRUE;CN="Andrea B
 eshara":https://northeastwheelsevents.com/profile/AndreaBeshara
END:VEVENT
END:VCALENDAR
