BEGIN:VCALENDAR
PRODID:NingEventWidget-v1
VERSION:2.0
METHOD:PUBLISH
BEGIN:VEVENT
UID:5167423:Event:334078
DTSTAMP:20260422T193319Z
SUMMARY:Carnival Of Cars
DESCRIPTION:Get ready for an electrifying day of automotive excitement
  at the Carnival of Cars, a thrilling car show event you won't want to
  miss!\n Date & Time: September 29th 2024, 11:00 AM - 3:00 PM Locati
 on: Detailing World Headquarters, 1223 Lancaster Rd #105, Manheim, PA\
 n Get Ready for an Automotive Extravaganza: Prepare to be amazed by a
 n incredible lineup of vehicles, from timeless classics to the latest 
 cutting-edge machines. Stroll through rows of automotive masterpieces 
 that are sure to leave you in awe.\n Beats by DJ Rhythm God: Let the 
 sounds of DJ Rhythm God fill the air as you enjoy the lively vibe of t
 he Carnival of Cars. Dance, hang out, and enjoy the music while you so
 ak in the event's excitement.\n Bacio Pizza Italian Grill: Treat your
 self to the delicious offerings from Bacio Pizza Italian Grill, servin
 g up fresh-baked pizza alongside a full menu of Italian favorites like
  subs, salads, pasta, and wings—perfect for any appetite.\n.\n\n\n\n
 For more information visit https://northeastwheelsevents.com/events/ca
 rnival-of-cars-3
DTSTART:20240929T190000Z
DTEND:20240930T030000Z
CATEGORIES:car, show
LOCATION:Detailing World
WEBSITE:
URL:
CONTACT:7178799565
ORGANIZER;CN="Detailing World":https://northeastwheelsevents.com/profi
 le/DetailingWorld
ATTACH;FMTTYPE="image/jpeg":
ATTENDEE;ROLE=REQ-PARTICIPANT;PARTSTAT=ACCEPTED;RSVP=TRUE;CN="Detailin
 g World":https://northeastwheelsevents.com/profile/DetailingWorld
END:VEVENT
END:VCALENDAR
