BEGIN:VCALENDAR
PRODID:NingEventWidget-v1
VERSION:2.0
METHOD:PUBLISH
BEGIN:VEVENT
UID:5167423:Event:337915
DTSTAMP:20260421T050406Z
SUMMARY:Carnival of Cars Spring Fling
DESCRIPTION:Mark your calendars for our Carnival of Cars Spring Fling 
 on March 30th! The event starts at 11am and runs until 3pm at the Deta
 iling World Manheim location.\n\nAll cars are invited so don't be shy!
  The event will be held in the front of the store.\n\nWe will see you 
 March 30th! \n\n\n\n\n\nFor more information visit https://northeastw
 heelsevents.com/events/carnival-of-cars-spring-fling
DTSTART:20250330T150000Z
DTEND:20250330T190000Z
CATEGORIES:car, show
LOCATION:Detailing World Manheim, PA
WEBSITE:https://maps.app.goo.gl/qivU2LvMV9WGZRns9
URL:https://maps.app.goo.gl/qivU2LvMV9WGZRns9
CONTACT:7178799565
ORGANIZER:Matt Kelly
ATTACH;FMTTYPE="image/jpeg":https://storage.ning.com/topology/rest/1.0
 /file/get/13478373458?profile=original
ATTENDEE;ROLE=REQ-PARTICIPANT;PARTSTAT=ACCEPTED;RSVP=TRUE;CN="Sean Joh
 nson":https://northeastwheelsevents.com/profile/SeanJohnson
ATTENDEE;ROLE=REQ-PARTICIPANT;PARTSTAT=TENTATIVE;RSVP=TRUE;CN="William
  Bruce":https://northeastwheelsevents.com/profile/WilliamBruce
END:VEVENT
END:VCALENDAR
