BEGIN:VCALENDAR
PRODID:NingEventWidget-v1
VERSION:2.0
METHOD:PUBLISH
BEGIN:VEVENT
UID:5167423:Event:1142
DTSTAMP:20260423T003058Z
SUMMARY:Carolina Classics at the Capital
DESCRIPTION:Carolina Classics at the Capital will take place August 20
 -22, 2010 in Raleigh, North Carolina. The show will feature more than 
 500 classic cars lining the city’s famed Fayetteville Street in the 
 heart of downtown Raleigh. With its historic buildings and vibrant ret
 ail and dining options, Fayetteville Street is the ideal cityscape for
  displaying great cars and trucks of yesteryear.\n\nJust one block wes
 t is the newly renovated Raleigh Convention Center, which will house e
 ven more cars and hundreds of vendors in its 150,000 sq. ft. air condi
 tioned space.\n\nReservations are now being accepted for both indoor a
 nd outdoor spaces. For more information, visit www.classicsatthecapita
 l.com or call us at 919-896-7448. We also invite you to join us on Fac
 ebook to stay updated on new things being added to the schedule.\n\nFo
 r more information visit https://northeastwheelsevents.com/events/caro
 lina-classics-at-the
DTSTART:20100820T160000Z
DTEND:20100822T190000Z
CATEGORIES:classic, car, show
LOCATION:Downtown Raleigh
WEBSITE:http://www.classicsatthecapital.com
URL:http://www.classicsatthecapital.com
CONTACT:919-896-7448
ORGANIZER:Greg Cox
ATTACH;FMTTYPE="image/jpeg":http://storage.ning.com/topology/rest/1.0/
 file/get/2284047360?profile=original
ATTENDEE;ROLE=REQ-PARTICIPANT;PARTSTAT=ACCEPTED;RSVP=TRUE;CN="Sarah Co
 pe":https://northeastwheelsevents.com/profile/SarahCope
END:VEVENT
END:VCALENDAR
