BEGIN:VCALENDAR
PRODID:NingEventWidget-v1
VERSION:2.0
METHOD:PUBLISH
BEGIN:VEVENT
UID:5167423:Event:124624
DTSTAMP:20260425T072009Z
SUMMARY:Carriage House and Lost in Time St. Jude's Benefit Car Show an
 d Tricky Tray
DESCRIPTION:\nRAINDATE AUGUST 21ST\nCAR SHOW AND TRICKY TRAY TO BENEFI
 T st. judes\nHOSTED BY THE CARRIAGE HOUSE AND THE LOST IN TIME CAR CLU
 B\n\n    \n OPEN TO THE PUBLIC\nCAR REGISTRATION $15 DAY OF EVENT
 .  FOR MORE INFORMATION CALL OR EMAIL AT: frontdesk@carriagehousecoun
 tryclub.com\n \n\n\n \n\n\n \n\n\n\n\n\n\n \n\n\nAUGUST 21 10AM-4P
 M\n \n\nSPECTATOR JUDGED CAR SHOW WITH PRIZES\n TWO CLASSES\n \n\nT
 RICKY TRAY\nATOMIC HOG FOOD TRUCK\nbounce\n\nBOUNCE HOUSE\nCOTTON CAND
 Y\nCHILDREN’S CARNIVAL GAMES  \nWIDE ARRAY OF VENDORS\nMUSIC\nCHAIR
  MASSAGES\n \nV\nVENDOR INFORMATIONB\nVE\n5\nMORE INFORMATION CALL 57
 0-839-6761\n\n\n\n \n\n\nCARRIAGE HOUSE\n390 MANOR DRIVE POCONO MANOR
 , PA. 18349 570-839-6761\ncarriagehousecountryclub.com\n\n\n\n\n\n\n\n
 \n\n\n \n\nFor more information visit https://northeastwheelsevents.c
 om/events/carriage-house-and-lost-in-time-st-jude-s-benefit-car-show-a
 nd
DTSTART:20160821T140000Z
DTEND:20160821T200000Z
CATEGORIES:fundraiser
LOCATION:390 Manor Drive Pocono Manor Pa.
WEBSITE:http://www.carriagehousecountryclub.com
URL:http://www.carriagehousecountryclub.com
CONTACT:570-839-6761
ORGANIZER;CN="Debbie Schaeffer":https://northeastwheelsevents.com/prof
 ile/DebbieSchaeffer
ATTACH;FMTTYPE="image/jpeg":
ATTENDEE;ROLE=REQ-PARTICIPANT;PARTSTAT=ACCEPTED;RSVP=TRUE;CN="Debbie S
 chaeffer":https://northeastwheelsevents.com/profile/DebbieSchaeffer
END:VEVENT
END:VCALENDAR
