BEGIN:VCALENDAR
PRODID:NingEventWidget-v1
VERSION:2.0
METHOD:PUBLISH
BEGIN:VEVENT
UID:5167423:Event:316866
DTSTAMP:20260423T002200Z
SUMMARY:CARS &; BADGES-DEDICATED TO ALL FIRST RESPONDERS
DESCRIPTION:Noon-2:30pm - A Special Dedication in Remembrance of Septe
 mber 11th. The Museum will be hosting a special event as a Tribute to 
 all First Responders. On display is a 1992 six speed Corvette converti
 ble. The Military Vette honors the families of those who paid the ulti
 mate sacrifice. As we remember the victims of 9/11, we also thank all 
 First Responders.\nSpecial Presentation: Military 1992 Vette - Noon to
  12:30pm (Orientation Theatre), Patriotic Songs by the Swing Time Doll
 s- 12:30pm to 2:30pm (Museum Lobby). Activities include: The Allentown
  Honor Guard Presentation 1pm to 1:15pm. Meaningful Emergency Vehicles
 , including \"Jack\" Mack Truck & Cars on display in the Parking lot b
 eginning at Noon in collaboration with Lehigh Valley Car Meets and Car
  Shows LLC. Assorted Ice Cream Treats ($4.00 each). Sponsored by Mack 
 Trucks & Hosted by America on Wheels.\nAdults $15, Seniors $10, Studen
 ts $8, All Children 12 & Under FREE\n\nFor more information visit http
 s://northeastwheelsevents.com/events/cars-amp-badges-dedicated-to-all-
 first-responders
DTSTART:20230910T160000Z
DTEND:20230910T210000Z
CATEGORIES:dedication
LOCATION:AMERICA ON WHEELS MUSEUM
WEBSITE:http://WWW.AMERICAONWHEELS.ORG
URL:http://WWW.AMERICAONWHEELS.ORG
CONTACT:6104324200
ORGANIZER:LIZ HAHN
ATTACH;FMTTYPE="image/jpeg":
ATTENDEE;ROLE=REQ-PARTICIPANT;PARTSTAT=ACCEPTED;RSVP=TRUE;CN="Linda Me
 rkel":https://northeastwheelsevents.com/profile/LindaMerkel
END:VEVENT
END:VCALENDAR
