BEGIN:VCALENDAR
PRODID:NingEventWidget-v1
VERSION:2.0
METHOD:PUBLISH
BEGIN:VEVENT
UID:5167423:Event:334741
DTSTAMP:20260422T193217Z
SUMMARY:Cars and Boba Cruise In
DESCRIPTION:Cars and Boba bring your cars/bikes out! Every LAST SUNDAY
  of the month.  No loud music, no burn outs, reving. You will be remov
 ed.  Come and enjoy some bubble tea and our full menu! Korean BBQ and 
 our full indoor outdoor bar as well.\n\nFor more information visit htt
 ps://northeastwheelsevents.com/events/cars-and-boba-cruise-in
DTSTART:20240929T150000Z
DTEND:20240929T210000Z
CATEGORIES:cruise-in
LOCATION:Tai Chi Bubble Tea (Greece Ridge Mall Store)
WEBSITE:https://www.facebook.com/events/tai-chi-bubble-tea-greece-ridg
 e-mall-store/cars-and-boba/538859375335629/
URL:https://www.facebook.com/events/tai-chi-bubble-tea-greece-ridge-ma
 ll-store/cars-and-boba/538859375335629/
CONTACT:585-270-8130
ORGANIZER:Jason Cao
ATTACH;FMTTYPE="image/jpeg":https://storage.ning.com/topology/rest/1.0
 /file/get/12981727061?profile=original
ATTENDEE;ROLE=REQ-PARTICIPANT;PARTSTAT=ACCEPTED;RSVP=TRUE;CN="William 
 Bruce":https://northeastwheelsevents.com/profile/WilliamBruce
END:VEVENT
END:VCALENDAR
