BEGIN:VCALENDAR
PRODID:NingEventWidget-v1
VERSION:2.0
METHOD:PUBLISH
BEGIN:VEVENT
UID:5167423:Event:59884
DTSTAMP:20260422T194305Z
SUMMARY:Cars and Christmas
DESCRIPTION:It’s that time of year again, and this year the Antique 
 Automobile Club of America (AACA) Museum will be festively prepared fo
 r the holidays during the Cars and Christmas exhibit, starting Novembe
 r 15 and running until January 4, 2015. There will be a variety of spe
 cial automobiles on display, including Mr. Beep, the 1959 Pontiac Cata
 lina Safari, our Hess Mobile Museum celebrating 50 years of Hess, the 
 Model Trains, and much more! Enjoy the Pontiac Catalina Safari, this u
 nique rescued and restored answer to the El Camino, the one and only o
 f its kind. Also come explore our new Tucker Exhibit, the world’s la
 rgest collection of Tucker vehicles and other Tucker automobilia. Real
 ly feeling in the holiday spirit? Help those in need by donating non-p
 erishable food items and toys to our Food and Toy Drive, all located h
 ere at the AACA Museum.\n\nFor more information visit https://northeas
 twheelsevents.com/events/cars-and-christmas-1
DTSTART:20141115T140000Z
DTEND:20150104T220000Z
CATEGORIES:exhibit
LOCATION:AACA Museum
WEBSITE:http://www.aacamuseum.org/cars-christmas-2014/
URL:http://www.aacamuseum.org/cars-christmas-2014/
CONTACT:717-566-7100
ORGANIZER;CN="AACA Museum":https://northeastwheelsevents.com/profile/A
 ACAMuseum553
ATTACH;FMTTYPE="image/jpeg":http://storage.ning.com/topology/rest/1.0/
 file/get/2284064291?profile=original
ATTENDEE;ROLE=REQ-PARTICIPANT;PARTSTAT=ACCEPTED;RSVP=TRUE;CN="AACA Mus
 eum":https://northeastwheelsevents.com/profile/AACAMuseum553
END:VEVENT
END:VCALENDAR
