BEGIN:VCALENDAR
PRODID:NingEventWidget-v1
VERSION:2.0
METHOD:PUBLISH
BEGIN:VEVENT
UID:5167423:Event:330002
DTSTAMP:20260423T234137Z
SUMMARY:Cars and Coffee-----Downingtown, Pa.
DESCRIPTION:Join us for Cars & Coffee every 2nd Saturday 9-11am, April
 - November! Next get together on Saturday, October, 12 2024. Free Donu
 ts! Get your cars shined up and dusted off for this fun event in our R
 e/Max Ace Realty office parking lot. Bring your special ride. No burno
 uts, no revving, no speeding in lot or when you leave. Keep it respect
 ful! \r\n\r\nOther Cars and Coffee Events can be found at https://car
 sandcoffeeevents.com/events/;\n\nFor more information visit https://no
 rtheastwheelsevents.com/events/cars-and-coffee-downingtown-pa-3
DTSTART:20241012T130000Z
DTEND:20241012T150000Z
CATEGORIES:cruisein
LOCATION:Re/Max Ace Realty parking lot
WEBSITE:https://www.eventbrite.com/e/cars-and-coffee-downingtown-ticke
 ts-861593678887/
URL:https://www.eventbrite.com/e/cars-and-coffee-downingtown-tickets-8
 61593678887/
CONTACT:484-712-0009
ORGANIZER:Re/Max ACE Realty
ATTACH;FMTTYPE="image/jpeg":https://storage.ning.com/topology/rest/1.0
 /file/get/12680488879?profile=original
ATTENDEE;ROLE=REQ-PARTICIPANT;PARTSTAT=ACCEPTED;RSVP=TRUE;CN="William 
 Bruce":https://northeastwheelsevents.com/profile/WilliamBruce
END:VEVENT
END:VCALENDAR
