BEGIN:VCALENDAR
PRODID:NingEventWidget-v1
VERSION:2.0
METHOD:PUBLISH
BEGIN:VEVENT
UID:5167423:Event:334898
DTSTAMP:20260423T084748Z
SUMMARY:Cars and Coffee- Hudson, NH
DESCRIPTION:Join us for our 3rd and final Cars & Coffee for 2024! Come
  and chat with our crew, other car owners, show off your car or just c
 ome for the fresh donuts from Crosby Bakery! Sunday, October 13th from
  8am-10am. We will have local hot coffee from Rare Breed, and Brookdal
 e Farm apple cider! Fall is here! \n\nFor more information visit http
 s://northeastwheelsevents.com/events/cars-and-coffee-hudson-nh
DTSTART:20241013T120000Z
DTEND:20241013T140000Z
CATEGORIES:cruisein
LOCATION:Zaks Auto lot
WEBSITE:https://www.facebook.com/events/24-hampshire-drive-hudson-nh-u
 nited-states-new-hampshire-03051/cars-and-coffee/1035047664501512/
URL:https://www.facebook.com/events/24-hampshire-drive-hudson-nh-unite
 d-states-new-hampshire-03051/cars-and-coffee/1035047664501512/
CONTACT:603-943-7682
ORGANIZER:Zaks Auto crew
ATTACH;FMTTYPE="image/jpeg":https://storage.ning.com/topology/rest/1.0
 /file/get/12996386660?profile=original
ATTENDEE;ROLE=REQ-PARTICIPANT;PARTSTAT=ACCEPTED;RSVP=TRUE;CN="William 
 Bruce":https://northeastwheelsevents.com/profile/WilliamBruce
END:VEVENT
END:VCALENDAR
