BEGIN:VCALENDAR
PRODID:NingEventWidget-v1
VERSION:2.0
METHOD:PUBLISH
BEGIN:VEVENT
UID:5167423:Event:334627
DTSTAMP:20260423T083825Z
SUMMARY:Cars and Coffee on The Ridge
DESCRIPTION:Come join us For Cars And Coffee On the ridge!All Cars wel
 come!No burnouts/drifting!Food trucks and food vendors and local busin
 esses are always welcome please reach out before hand to be reserved 
 a spot.Free entry!Come enjoy a great time and meet the car community.P
 hoto credit to rsautospotting!\n\nFor more information visit https://n
 ortheastwheelsevents.com/events/cars-and-coffee-on-the-ridge
DTSTART:20240928T120000Z
DTEND:20240928T150000Z
CATEGORIES:cruisein
LOCATION:Ridgemont Plaza
WEBSITE:https://www.facebook.com/events/ridgemont-plaza/cars-and-coffe
 e-on-the-ridge/913688484001907/
URL:https://www.facebook.com/events/ridgemont-plaza/cars-and-coffee-on
 -the-ridge/913688484001907/
CONTACT:585-723-1061
ORGANIZER:Brandon Veneron
ATTACH;FMTTYPE="image/jpeg":https://storage.ning.com/topology/rest/1.0
 /file/get/12975623285?profile=original
ATTENDEE;ROLE=REQ-PARTICIPANT;PARTSTAT=ACCEPTED;RSVP=TRUE;CN="William 
 Bruce":https://northeastwheelsevents.com/profile/WilliamBruce
END:VEVENT
END:VCALENDAR
