BEGIN:VCALENDAR
PRODID:NingEventWidget-v1
VERSION:2.0
METHOD:PUBLISH
BEGIN:VEVENT
UID:5167423:Event:334175
DTSTAMP:20260422T143945Z
SUMMARY:Cars and Coffee -Sewell, NJ
DESCRIPTION:Cars and Coffee, Sun. Sep. 29 2024 at 08:00 am to 11:00 am
 .\r\nCars and Coffee and Dolce Vita. All welcome! Come Join Us! \r\nC
 heck us out at https://www.dolcevitasewell.com/ \n\nFor more informat
 ion visit https://northeastwheelsevents.com/events/cars-and-coffee-sew
 ell-nj
DTSTART:20240929T120000Z
DTEND:20240929T150000Z
CATEGORIES:cruisein
LOCATION:Dolce Vita Gelato
WEBSITE:https://www.facebook.com/events/477a-greentree-road-sewell-nj/
 cars-and-coffee/997191692144157/
URL:https://www.facebook.com/events/477a-greentree-road-sewell-nj/cars
 -and-coffee/997191692144157/
CONTACT:856-885-9198
ORGANIZER:Dolce Vita Gelato
ATTACH;FMTTYPE="image/jpeg":https://storage.ning.com/topology/rest/1.0
 /file/get/12949895054?profile=original
ATTENDEE;ROLE=REQ-PARTICIPANT;PARTSTAT=ACCEPTED;RSVP=TRUE;CN="William 
 Bruce":https://northeastwheelsevents.com/profile/WilliamBruce
END:VEVENT
END:VCALENDAR
