BEGIN:VCALENDAR
PRODID:NingEventWidget-v1
VERSION:2.0
METHOD:PUBLISH
BEGIN:VEVENT
UID:5167423:Event:336547
DTSTAMP:20260419T213837Z
SUMMARY:Cars and Cups- Howell Chick-Fil-A
DESCRIPTION:Cars & Cups is a REGULAR Cars and Coffee meet at Chick-Fil
 -A in Howell, NJ. \r\nBring your car to the restaurant and receive a 
 free coffee. Some locations may also offer other perks, such as yard 
 games, seasonal item samples, or special visits. \r\nHowell Chick-Fil
 -A has extended their Cars & Cups event throughout the winter. Car ent
 husiasts feel free to stop by with your car, talk with other car enthu
 siasts and get a free cup of coffee. Next event is Saturday, February 
 15th.\r\nWinter Dates(weather permitting), Nov. 9th, 23rd, Dec.7th, 21
 st., Jan. 4th, 18th, Feb.1st, 15th,  Mar. 1st, 15th. More info. on ww
 w.jerseyshorecarshows.com/;\n\nFor more information visit https://nort
 heastwheelsevents.com/events/cars-and-cups-howell-chick-fil-a-4
DTSTART:20250215T130000Z
DTEND:20250215T153000Z
CATEGORIES:cruisein
LOCATION:Chick-Fil-A lot in Howell, NJ
WEBSITE:https://www.jerseyshorecarshows.com/cars-coffee
URL:https://www.jerseyshorecarshows.com/cars-coffee
CONTACT:732-730-9033
ORGANIZER:Jersey Shore Car Shows
ATTACH;FMTTYPE="image/jpeg":https://storage.ning.com/topology/rest/1.0
 /file/get/13349783264?profile=original
ATTENDEE;ROLE=REQ-PARTICIPANT;PARTSTAT=ACCEPTED;RSVP=TRUE;CN="William 
 Bruce":https://northeastwheelsevents.com/profile/WilliamBruce
END:VEVENT
END:VCALENDAR
