BEGIN:VCALENDAR
PRODID:NingEventWidget-v1
VERSION:2.0
METHOD:PUBLISH
BEGIN:VEVENT
UID:5167423:Event:42848
DTSTAMP:20260422T232258Z
SUMMARY:Cars and Motorcycles of England
DESCRIPTION:Cars and Motorcycles of England is an all-British Marque J
 udged Motorcar and Motorcycle Concours and\nA Nationally Sanctioned Ja
 guar Concours d’Elegance. Hosted by Delaware Valley Triumphs and The
  Delaware Valley Jaguar Club. Please visit the website for more inform
 ation and to download a registration form (http://www.dvtr.org/CMoE.ht
 ml)\n\nFor more information visit https://northeastwheelsevents.com/ev
 ents/cars-and-motorcycles-of-england
DTSTART:20140531T123000Z
DTEND:20140531T190000Z
CATEGORIES:all, british, marque, car, and, motorcycle, show
LOCATION:Oakbourne Mansion
WEBSITE:http://www.oakbournemansion.org/
URL:http://www.oakbournemansion.org/
CONTACT:609-760-8198
ORGANIZER;CN="Btuce Schechter":https://northeastwheelsevents.com/profi
 le/BtuceSchechter
ATTACH;FMTTYPE="image/jpeg":http://storage.ning.com/topology/rest/1.0/
 file/get/2284060672?profile=original
ATTENDEE;ROLE=REQ-PARTICIPANT;PARTSTAT=ACCEPTED;RSVP=TRUE;CN="Btuce Sc
 hechter":https://northeastwheelsevents.com/profile/BtuceSchechter
END:VEVENT
END:VCALENDAR
