BEGIN:VCALENDAR
PRODID:NingEventWidget-v1
VERSION:2.0
METHOD:PUBLISH
BEGIN:VEVENT
UID:5167423:Event:325187
DTSTAMP:20260421T043806Z
SUMMARY:Cars & Bikes at Otsiningo Park
DESCRIPTION:9th Annual Classic and Custom Cars & Bikes at Otsiningo Pa
 rk in Binghamton, New York. Corner of Bevier Street and Front Street. 
 Saturday, July, 13 2024, 10am- 3pm. Show off your Classic or Custom Ca
 rs, Trucks & Motorcycles! Pre-reg $20, by July 1, Day of $25. Sign up 
 at https://www.binghamtondrive.com/whats-going-on/cars-and-bikes-at-ot
 siningo-park/\r\n Hosted by: Combat Veterans Motorcycle Association(C
 VMA) 19-10 Finger Lakes Region, American Cruisers Car Club and Equinox
  Broadcasting Radio Stations. Proceeds to Benefit Local Veterans! Join
  us for another afternoon of cars, trucks, motorcycles, live music, ve
 ndors, food and fun! If you own a business and are interested in being
  a vendor, call 607-772-1005 or email Ray@equinoxbroadcasting.com. Con
 tact GabetheGear@aol.com for info. on American Cruisers Car Club. \r\
 nAlso on July 13, 2024, Veterans Motorcycle Ride, $10 entry, Oakdale M
 all Commons, JC, Beer Tree Factory Parking lot-KSU 9:30am. Proceeds be
 nefit local Veterans! Ride to Whitney Point and back to All Leathers &
  Repair. Registration and payment at All Leathers & Repairs - 10:30-11
 :30am. Those continuing to Cars & Bike at Otsiningo Park Show line up 
 parade style to and around the park, KSU 11:40am. Sponsored by All Lea
 thers & Repairs, Triple Cities Chopper Club and more. Complete list on
  Binghamton Drive web site. \r\n\r\n\r\n\r\n\n\nFor more information 
 visit https://northeastwheelsevents.com/events/cars-bikes-at-otsiningo
 -park
DTSTART:20240713T140000Z
DTEND:20240713T190000Z
CATEGORIES:carshow, music, carparts, vendors
LOCATION:Otsiningo Park
WEBSITE:https://BCCarShow.com
URL:https://BCCarShow.com
CONTACT:607-772-1005
ORGANIZER:CVMA
ATTACH;FMTTYPE="image/jpeg":https://storage.ning.com/topology/rest/1.0
 /file/get/12389670262?profile=original
ATTENDEE;ROLE=REQ-PARTICIPANT;PARTSTAT=ACCEPTED;RSVP=TRUE;CN="William 
 Bruce":https://northeastwheelsevents.com/profile/WilliamBruce
END:VEVENT
END:VCALENDAR
