BEGIN:VCALENDAR
PRODID:NingEventWidget-v1
VERSION:2.0
METHOD:PUBLISH
BEGIN:VEVENT
UID:5167423:Event:334777
DTSTAMP:20260423T214931Z
SUMMARY:Cars, Coats and Coffee- 3rd Annual
DESCRIPTION:Car Show - all makes, models, and years welcome!!! Sat. Oc
 t. 12 2024 at 08:00 am to 11:00 am. Please bring one or more new or ge
 ntly worn winter coats or a cash donation. All coats will be donated t
 o: Coats for Kids. Free coffee & donuts while supplies last. Rides in 
 a Lamborghini and a McLaren will also be raffled at the event.\n\nFor 
 more information visit https://northeastwheelsevents.com/events/cars-c
 oats-and-coffee-3rd-annual
DTSTART:20241012T120000Z
DTEND:20241012T150000Z
CATEGORIES:carshow, benefit
LOCATION:St. Jude Parish - Londonderry, NH
WEBSITE:https://allevents.in/londonderry/cars-coats-and-coffee-3rd-ann
 ual/200027202457034
URL:https://allevents.in/londonderry/cars-coats-and-coffee-3rd-annual/
 200027202457034
CONTACT:(603) 432-3333
ORGANIZER:Knights of Columbus - Londonderry, NH #6949
ATTACH;FMTTYPE="image/jpeg":https://storage.ning.com/topology/rest/1.0
 /file/get/12996344260?profile=original
ATTENDEE;ROLE=REQ-PARTICIPANT;PARTSTAT=ACCEPTED;RSVP=TRUE;CN="William 
 Bruce":https://northeastwheelsevents.com/profile/WilliamBruce
END:VEVENT
END:VCALENDAR
