BEGIN:VCALENDAR
PRODID:NingEventWidget-v1
VERSION:2.0
METHOD:PUBLISH
BEGIN:VEVENT
UID:5167423:Event:138134
DTSTAMP:20260420T150740Z
SUMMARY:Cars & Coffee
DESCRIPTION:An opportunity for proud drivers to show off their own spe
 cial rides, all all auto enthusiasts to congregate to kick tires, peer
  under hoods, and enjoy coffee with their fellow car-lovers. All are w
 elcome, with or without their own collector automobile. There will be 
 autos of all soorts,something for everyone to enjoy and admire! Coffee
  & goodies served, free admission with donations gladly accepted. Cars
  & Coffee events are held at the Seal Cove Auto Museum the second Satu
 rday of each month.\n\nFor more information visit https://northeastwhe
 elsevents.com/events/cars-coffee-1
DTSTART:20170610T130000Z
DTEND:20170610T160000Z
CATEGORIES:car, show
LOCATION:Seal Cove Auto Museum
WEBSITE:http://www.sealcoveautomuseum.org
URL:http://www.sealcoveautomuseum.org
CONTACT:8026745043
ORGANIZER:Bill Barter
ATTACH;FMTTYPE="image/jpeg":http://storage.ning.com/topology/rest/1.0/
 file/get/2284090822?profile=original
ATTENDEE;ROLE=REQ-PARTICIPANT;PARTSTAT=ACCEPTED;RSVP=TRUE;CN="Roberto 
 M Rodriguez":https://northeastwheelsevents.com/profile/RobertoMRodrigu
 ez
END:VEVENT
END:VCALENDAR
