BEGIN:VCALENDAR
PRODID:NingEventWidget-v1
VERSION:2.0
METHOD:PUBLISH
BEGIN:VEVENT
UID:5167423:Event:89176
DTSTAMP:20260421T135751Z
SUMMARY:Cars & Coffee Can Drive
DESCRIPTION:Join the Roxborough Ridge Runners Car Club in enjoying an 
 early morning cruise.  The temperature is cooler and the location is 
 laid back.  You can also support our efforts for WMMR's Campout for H
 unger and bring a canned good, or two. \n\nFor more information visit
  https://northeastwheelsevents.com/events/cars-coffee-can-drive
DTSTART:20150822T120000Z
DTEND:20150822T150000Z
CATEGORIES:cars, "&", coffee, can, drive
LOCATION:IVY Ridge Shopping Center
WEBSITE:http://roxboroughridgerunners.com
URL:http://roxboroughridgerunners.com
CONTACT:215.983.8800
ORGANIZER:Roxborough Ridge Runners Car Club
ATTACH;FMTTYPE="image/jpeg":http://storage.ning.com/topology/rest/1.0/
 file/get/2284074348?profile=original
ATTENDEE;ROLE=REQ-PARTICIPANT;PARTSTAT=ACCEPTED;RSVP=TRUE;CN="John Dav
 is":https://northeastwheelsevents.com/profile/JohnDavis
END:VEVENT
END:VCALENDAR
