BEGIN:VCALENDAR
PRODID:NingEventWidget-v1
VERSION:2.0
METHOD:PUBLISH
BEGIN:VEVENT
UID:5167423:Event:350137
DTSTAMP:20260425T084826Z
SUMMARY:Cars & Coffee Classic Cruise In
DESCRIPTION:All makes, all models, cars, trucks, bikes allowed! Second
  Saturday of each month, May-October, weather permitting! 5/9, 6/13, 7
 /11, 8/8, 9/12, 10/10.  8:00 am- 9:30 am. Cruise In, hangout, look ab
 out, Checkout the Museum! \r\n\r\nFeatures: Display of classic cars,
  motorcycles, and themed exhibits, as detailed on the RAOCC / Norwich
  Car Club Facebook.\r\n\r\nMore info. on the Museum here on NortheastW
 heelsEvents.com on \"Museum\" page. \n\nFor more information visit ht
 tps://northeastwheelsevents.com/events/cars-coffee-classic-cruise-in-5
DTSTART:20260613T120000Z
DTEND:20260613T130000Z
CATEGORIES:cruisein
LOCATION:Northeast Classic Car Museum
WEBSITE:https://www.facebook.com/photo.php?fbid=1117516350420740&amp;a
 mp;amp;amp;id=100064871550892&amp;amp;amp;amp;set=a.1026920716146971
URL:https://www.facebook.com/photo.php?fbid=1117516350420740&amp;amp;a
 mp;amp;id=100064871550892&amp;amp;amp;amp;set=a.1026920716146971
CONTACT:(607)334-2886
ORGANIZER:Northeast Classic Car Museum
ATTACH;FMTTYPE="image/jpeg":https://storage.ning.com/topology/rest/1.0
 /file/get/13659533489?profile=original
ATTENDEE;ROLE=REQ-PARTICIPANT;PARTSTAT=ACCEPTED;RSVP=TRUE;CN="William 
 Bruce":https://northeastwheelsevents.com/profile/WilliamBruce
END:VEVENT
END:VCALENDAR
