BEGIN:VCALENDAR
PRODID:NingEventWidget-v1
VERSION:2.0
METHOD:PUBLISH
BEGIN:VEVENT
UID:5167423:Event:44168
DTSTAMP:20260422T200424Z
SUMMARY:Cars & Coffee (& Ice Cream)
DESCRIPTION:This will be our third edition to Cars & Coffee. We will m
 eet at Bill Mack's Ice Cream Parlor in Dover PA.\n\nThis will not be y
 our typical meet. Here we will stand around and talk about our MINI's,
  what mods we have and want to have. Ideas for future meet up's, etc..
 \n\nThis would be a great time for anyone new to the club that may wan
 t to; host a meet up or even host the next Coffee & Cars, but not sure
  how todo it. We can help you with that.\n\nFor more information visit
  https://northeastwheelsevents.com/events/cars-coffee-ice-cream-1
DTSTART:20140607T200000Z
DTEND:20140607T220000Z
CATEGORIES:outing
LOCATION:Bill Mack's Ice Cream Parlor
WEBSITE:
URL:
CONTACT:
ORGANIZER;CN="Shawn McNew":https://northeastwheelsevents.com/profile/S
 hawnMcNew
ATTACH;FMTTYPE="image/jpeg":
ATTENDEE;ROLE=REQ-PARTICIPANT;PARTSTAT=ACCEPTED;RSVP=TRUE;CN="Pamela H
 irschhorn":https://northeastwheelsevents.com/profile/PamelaHirschhorn
ATTENDEE;ROLE=REQ-PARTICIPANT;PARTSTAT=ACCEPTED;RSVP=TRUE;CN="Shawn Mc
 New":https://northeastwheelsevents.com/profile/ShawnMcNew
END:VEVENT
END:VCALENDAR
