BEGIN:VCALENDAR
PRODID:NingEventWidget-v1
VERSION:2.0
METHOD:PUBLISH
BEGIN:VEVENT
UID:5167423:Event:172641
DTSTAMP:20260424T002544Z
SUMMARY:Cars, Corks, and Chocolates at America On Wheels Museum
DESCRIPTION:Enjoy Classic Cars, Sample Wine, Chocolates, Music & More!
 \n\nFor more information visit https://northeastwheelsevents.com/event
 s/cars-corks-amp-chocolates-at-america-on-wheels-museum
DTSTART:20180211T173000Z
DTEND:20180211T203000Z
CATEGORIES:wine, tasting, and, cars
LOCATION:America On Wheels Museum
WEBSITE:http://americaonwheels.org/
URL:http://americaonwheels.org/
CONTACT:610-432-4200
ORGANIZER;CN="America On Wheels Museum":https://northeastwheelsevents.
 com/profile/americaonwheels
ATTACH;FMTTYPE="image/jpeg":http://storage.ning.com/topology/rest/1.0/
 file/get/2284101259?profile=original
ATTENDEE;ROLE=REQ-PARTICIPANT;PARTSTAT=ACCEPTED;RSVP=TRUE;CN="America 
 On Wheels Museum":https://northeastwheelsevents.com/profile/americaonw
 heels
END:VEVENT
END:VCALENDAR
