BEGIN:VCALENDAR
PRODID:NingEventWidget-v1
VERSION:2.0
METHOD:PUBLISH
BEGIN:VEVENT
UID:5167423:Event:346824
DTSTAMP:20260424T162027Z
SUMMARY:Cars for Kacie..The Road to Recovery
DESCRIPTION:Hello my friends, time to place on your car show calendars
  as a can't miss show for 2026. October 3rd with a raindate of October
  10th. A huge turnout of over 725 cars in 2025. Top 100 with NUMEROUS 
 6 foot specialty awards. Come and meet  Optimus Prime. A petting zoo 
 and bounce house for the kids. More food vendors and judges than in 20
 25. This is a can't miss show. Please mark your calendars for one of t
 he largest 1 day shows in the area. Bikes, Trucks, Imports, Classics, 
 New Generation.. All makes and models welcomed. Thank you for supporti
 ng this cause.\n\nFor more information visit https://northeastwheelsev
 ents.com/events/cars-for-kacie-the-road-to-recovery-1
DTSTART:20261003T120000Z
DTEND:20261003T190000Z
CATEGORIES:car-event, "benefit...largest", in, the, country
LOCATION:Classic Auto Mall
WEBSITE:http://Www.kaciescause.org
URL:http://Www.kaciescause.org
CONTACT:610.742.5249
ORGANIZER:Andy Rumford
ATTACH;FMTTYPE="image/jpeg":https://storage.ning.com/topology/rest/1.0
 /file/get/30989264898?profile=original
ATTENDEE;ROLE=REQ-PARTICIPANT;PARTSTAT=ACCEPTED;RSVP=TRUE;CN="William 
 Bruce":https://northeastwheelsevents.com/profile/WilliamBruce
END:VEVENT
END:VCALENDAR
