BEGIN:VCALENDAR
PRODID:NingEventWidget-v1
VERSION:2.0
METHOD:PUBLISH
BEGIN:VEVENT
UID:5167423:Event:231008
DTSTAMP:20260422T231124Z
SUMMARY:Cars for Kacie
DESCRIPTION:Cars for Kacie – May 11th (Rain Date – May 18th) Class
 ic Auto Mall, 6180 Morgantown Rd. Morgantown Pa 19543   9am -4pm 1st
  Ever Indoor/Outdoor Largest East Coast car show extravaganza!  Open 
 to all cars, trucks & motorcycles, 30- 40” Floor Trophies, over 30 S
 pecialty Category Plaques and Custom Hand MadeTtrophies!  Pre-Reg $15
  Day of Show $20.    Free admission to over 400 unrestored barn fin
 d museum and 250 consignment cars.  Also, rare, unusual vehicles on d
 isplay, awesome one-of-kind automotive vendors and seminars, Awesome f
 ood vendors.  Attached Holiday Inn discounted rooms.  Info: Johnny P
 appas 703 477-9899\n\nFor more information visit https://northeastwhee
 lsevents.com/events/cars-for-kacie
DTSTART:20190511T130000Z
DTEND:20190511T200000Z
CATEGORIES:car, show
LOCATION:Classic Auto Mall
WEBSITE:http://www.carsforkacie.com
URL:http://www.carsforkacie.com
CONTACT:7034779899
ORGANIZER;CN="Johnny Pappas":https://northeastwheelsevents.com/profile
 /JohnnyPappas
ATTACH;FMTTYPE="image/jpeg":https://storage.ning.com/topology/rest/1.0
 /file/get/726799530?profile=original
ATTENDEE;ROLE=REQ-PARTICIPANT;PARTSTAT=ACCEPTED;RSVP=TRUE;CN="Johnny P
 appas":https://northeastwheelsevents.com/profile/JohnnyPappas
END:VEVENT
END:VCALENDAR
