BEGIN:VCALENDAR
PRODID:NingEventWidget-v1
VERSION:2.0
METHOD:PUBLISH
BEGIN:VEVENT
UID:5167423:Event:139996
DTSTAMP:20260423T172710Z
SUMMARY:Cars N Coffee
DESCRIPTION:Every Saturday from 730 am to Noon rain, snow or shine!\n\
 nFor more information visit https://northeastwheelsevents.com/events/c
 ars-n-coffee-5
DTSTART:20170128T120000Z
DTEND:20170128T170000Z
CATEGORIES:cars, n, coffee
LOCATION:Old Forge Motorcars
WEBSITE:http://www.oldforgemotorcars.com/
URL:http://www.oldforgemotorcars.com/
CONTACT:2156311776
ORGANIZER;CN="wayne woodruff":https://northeastwheelsevents.com/profil
 e/waynewoodruff
ATTACH;FMTTYPE="image/jpeg":
ATTENDEE;ROLE=REQ-PARTICIPANT;PARTSTAT=ACCEPTED;RSVP=TRUE;CN="wayne wo
 odruff":https://northeastwheelsevents.com/profile/waynewoodruff
END:VEVENT
END:VCALENDAR
