BEGIN:VCALENDAR
PRODID:NingEventWidget-v1
VERSION:2.0
METHOD:PUBLISH
BEGIN:VEVENT
UID:5167423:Event:137031
DTSTAMP:20260424T144526Z
SUMMARY:Cars N Coffee Lansdale PA
DESCRIPTION:\n\nFor more information visit https://northeastwheelseven
 ts.com/events/cars-n-coffee-lansdale-pa-1
DTSTART:20161119T130000Z
DTEND:20161119T170000Z
CATEGORIES:cars, and, coffee
LOCATION:Old Forge Motorcars, Lansdale PA
WEBSITE:http://www.oldforgemotorcars.com/cars-and-coffee
URL:http://www.oldforgemotorcars.com/cars-and-coffee
CONTACT:215-631-1776
ORGANIZER:Old Forge Motorcars
ATTACH;FMTTYPE="image/jpeg":http://storage.ning.com/topology/rest/1.0/
 file/get/2284091277?profile=original
ATTENDEE;ROLE=REQ-PARTICIPANT;PARTSTAT=ACCEPTED;RSVP=TRUE;CN="Pamela H
 irschhorn":https://northeastwheelsevents.com/profile/PamelaHirschhorn
END:VEVENT
END:VCALENDAR
