BEGIN:VCALENDAR
PRODID:NingEventWidget-v1
VERSION:2.0
METHOD:PUBLISH
BEGIN:VEVENT
UID:5167423:Event:137126
DTSTAMP:20260424T052533Z
SUMMARY:Cars N Coffee Lansdale PA
DESCRIPTION:\n\nFor more information visit https://northeastwheelseven
 ts.com/events/cars-n-coffee-lansdale-pa-3
DTSTART:20161203T130000Z
DTEND:20161203T170000Z
CATEGORIES:cars, and, coffee
LOCATION:Old Forge Motorcars, Lansdale PA
WEBSITE:
URL:
CONTACT:215-631-1776
ORGANIZER:Old Forge Motorcars
ATTACH;FMTTYPE="image/jpeg":http://storage.ning.com/topology/rest/1.0/
 file/get/2284091815?profile=original
ATTENDEE;ROLE=REQ-PARTICIPANT;PARTSTAT=ACCEPTED;RSVP=TRUE;CN="Pamela H
 irschhorn":https://northeastwheelsevents.com/profile/PamelaHirschhorn
END:VEVENT
END:VCALENDAR
