BEGIN:VCALENDAR
PRODID:NingEventWidget-v1
VERSION:2.0
METHOD:PUBLISH
BEGIN:VEVENT
UID:5167423:Event:231548
DTSTAMP:20260421T161440Z
SUMMARY:CarSmarts Radio - 610ESPN
DESCRIPTION:On this week's show, Kevin Mazzucola of the Automobile Dea
 lers Association of Great Philadelphia and the Philadelphia Auto Show 
 will be our guest to discuss new car sales and the auto show!  Be sur
 e to tune in!  Listen while you're on your way to the car events this
  weekend or download the podcast after the show! (also available as li
 ve stream on 610espn.com).  Call in with questions! \n\nFor more inf
 ormation visit https://northeastwheelsevents.com/events/carsmarts-radi
 o-610espn-2
DTSTART:20190119T160000Z
DTEND:20190119T170000Z
CATEGORIES:automotive, radio, show
LOCATION:We broadcast from Bala Cynwyd
WEBSITE:http://www.carsmartsradio.com
URL:http://www.carsmartsradio.com
CONTACT:
ORGANIZER;CN="Steven Saffier":https://northeastwheelsevents.com/profil
 e/StevenSaffier
ATTACH;FMTTYPE="image/jpeg":https://storage.ning.com/topology/rest/1.0
 /file/get/756796819?profile=original
ATTENDEE;ROLE=REQ-PARTICIPANT;PARTSTAT=ACCEPTED;RSVP=TRUE;CN="Steven S
 affier":https://northeastwheelsevents.com/profile/StevenSaffier
END:VEVENT
END:VCALENDAR
