BEGIN:VCALENDAR
PRODID:NingEventWidget-v1
VERSION:2.0
METHOD:PUBLISH
BEGIN:VEVENT
UID:5167423:Event:65034
DTSTAMP:20260422T001152Z
SUMMARY:Castaway Critters Exotic Car Show
DESCRIPTION:Join us for our upcoming 5th Annual Exotic and Sports Car 
 Show “Cool Cars for Cats and Canines” on Saturday, April 25, 2015 
 starting at 10 AM on the beautiful grounds of the AACA Museum in Hersh
 ey, PA. Cars will be coming from all over the mid-Atlantic region- wit
 h over 180 cars and a record attendance over 500 people in previous ye
 ars. And show your exotic car for a $20 donation – which included co
 mplimentary breakfast items and at ticket to the AACA Museum. Guests c
 an visit vendors and sponsors, try their luck at raffles and silent au
 ctions, vote for their favorite “cool car” in our People’s Choic
 e raffle, and meet some adorable animals. The top cars will be awarded
  trophies, judged by concours level judges and local celebrities. A $5
  admission donation gets you up close and personal to these incredible
  cars. Kids 10 and under are FREE. 100% of the proceeds directly suppo
 rt the work and mission of Castaway Critters, The James A. Hueholt Mem
 orial Foundation for Animals. Castaway Critters is a 501 (C) 3, no-kil
 l animal rescue, foster care network and spay/neuter charity. Castaway
  Critters has assisted and found homes for nearly 10,000 animals since
  2001. They specialize in helping sick, injured or abused animals who 
 face an uncertain future without their help and have nowhere else to 
 turn.\nVisit the show’s website at http://www.coolcarsforcatsandcan
 ines.com/ for more information or to register YOUR incredible car!\n\
 nFor more information visit https://northeastwheelsevents.com/events/c
 astaway-critters-exotic-car-show
DTSTART:20150425T140000Z
DTEND:20150425T200000Z
CATEGORIES:community
LOCATION:AACA Museum, 161 Museum Drive Hershey PA 17033
WEBSITE:http://www.coolcarsforcatsandcanines.com/
URL:http://www.coolcarsforcatsandcanines.com/
CONTACT:717-566-7100
ORGANIZER;CN="AACA Museum":https://northeastwheelsevents.com/profile/A
 ACAMuseum553
ATTACH;FMTTYPE="image/jpeg":http://api.ning.com:80/files/nNOqzuU--h9Pt
 8nTzbsSRDSlF9dpE6a-mgEUgFKkMP-Gp5coLx1LdSni2Ocg3lQ68MvuHiRNQUN2zf-QjtS
 US7Tilvi90oe7/CastawaysCoolCars042515.jpg
ATTENDEE;ROLE=REQ-PARTICIPANT;PARTSTAT=ACCEPTED;RSVP=TRUE;CN="AACA Mus
 eum":https://northeastwheelsevents.com/profile/AACAMuseum553
END:VEVENT
END:VCALENDAR
