BEGIN:VCALENDAR
PRODID:NingEventWidget-v1
VERSION:2.0
METHOD:PUBLISH
BEGIN:VEVENT
UID:5167423:Event:61970
DTSTAMP:20260419T101304Z
SUMMARY:Cavalcade of Cars
DESCRIPTION:22nd Annual rod, custom, classic, motorcycle and race prep
 ared show.  Attached building for the Retro \"Ol Scool\" cars.  Musi
 c all weekend.  Free Parking.\n\nAdmission Prices, Adults $12.00, Chi
 ldren 6-12, $3.00, under 6 FREE.  Discount tickets ($10.00 adult) sol
 d at all WNY Advance Auto Parts and Car Quest stores.\n\nFor more info
 rmation visit https://northeastwheelsevents.com/events/cavalcade-of-ca
 rs
DTSTART:20150227T220000Z
DTEND:20150301T230000Z
CATEGORIES:car, "&", motorcycle, show
LOCATION:Event Center, Hamburg Fairgrounds
WEBSITE:http://showandcruisenews.com
URL:http://showandcruisenews.com
CONTACT:716-656-9734
ORGANIZER;CN="Andy Sackett":https://northeastwheelsevents.com/profile/
 AndySackett
ATTACH;FMTTYPE="image/jpeg":
ATTENDEE;ROLE=REQ-PARTICIPANT;PARTSTAT=ACCEPTED;RSVP=TRUE;CN="Andy Sac
 kett":https://northeastwheelsevents.com/profile/AndySackett
END:VEVENT
END:VCALENDAR
