BEGIN:VCALENDAR
PRODID:NingEventWidget-v1
VERSION:2.0
METHOD:PUBLISH
BEGIN:VEVENT
UID:5167423:Event:654
DTSTAMP:20260422T170257Z
SUMMARY:Cavelcade of Corvettes
DESCRIPTION:for corvetts Only\n\n$20.00 pre.reg\n$25.00 gate\n\nFor mo
 re information visit https://northeastwheelsevents.com/events/cavelcad
 e-of-corvettes
DTSTART:20100619T140000Z
DTEND:20100619T193000Z
CATEGORIES:benefit, sunshine, "foundation/juvinlle", foundation
LOCATION:Middle Bucks Inst.of technology
WEBSITE:
URL:
CONTACT:
ORGANIZER;CN="wayne scott":https://northeastwheelsevents.com/profile/w
 aynescott
ATTACH;FMTTYPE="image/jpeg":
ATTENDEE;ROLE=REQ-PARTICIPANT;PARTSTAT=ACCEPTED;RSVP=TRUE;CN="wayne sc
 ott":https://northeastwheelsevents.com/profile/waynescott
END:VEVENT
END:VCALENDAR
