BEGIN:VCALENDAR
PRODID:NingEventWidget-v1
VERSION:2.0
METHOD:PUBLISH
BEGIN:VEVENT
UID:5167423:Event:20881
DTSTAMP:20260423T030850Z
SUMMARY:Celebration of Museum 10th Anniversary & Museum car Show
DESCRIPTION: Come out for a family fun filled day at the AACA Museum 
 with activities all day, which will have much more than just food. The
  Museum will be having events starting at 9 am and running all the way
  through 7 pm. There will be a car show from 9 – 3 with pre- registr
 ation at $10 or $15 on the day of the show. Some other events that wil
 l be happening are: car finger painting, Valve Cover Racing, a D.J(9-3
 ) and Yesterday’s Vibe band (3-7) playing throughout the day, “Bob
  the Bikeman” will be on site showing off his unique collection of 
 human powered vehicles”, a model car competition, behind the scene
 s tours, race car wheel changing completion, chips kids education prog
 ram, antique car rides, remarks with cake/cupcakes, raffle drawing, 50
 /50 drawing, and a cruise-in from 3 – 7 with a 50/50 drawing. The VI
 P barbecue will provide you with a choice of ½ a chicken or southern 
 style pulled pork a baked potato, coleslaw and a roll as sides. Adult 
 meals are $12 and children (4 -12) are $7 there will also be a refilla
 ble mug provided when the meal is purchased.\n \nPre-Registration for
  the car show and Barbecue, visit AACAMuseum.org for all the details.\
 n\nFor more information visit https://northeastwheelsevents.com/events
 /celebration-of-museum-10th-anniversary-museum-car-show
DTSTART:20130622T120000Z
DTEND:20130622T220000Z
CATEGORIES:car, show
LOCATION:AACA Museum
WEBSITE:http://aacamuseum.org/
URL:http://aacamuseum.org/
CONTACT:717-566-7100
ORGANIZER;CN="AACA Museum":https://northeastwheelsevents.com/profile/A
 ACAMuseum941
ATTACH;FMTTYPE="image/jpeg":
ATTENDEE;ROLE=REQ-PARTICIPANT;PARTSTAT=ACCEPTED;RSVP=TRUE;CN="Penny Wh
 ite - Central Mountains":https://northeastwheelsevents.com/profile/Pen
 nyWhite
ATTENDEE;ROLE=REQ-PARTICIPANT;PARTSTAT=ACCEPTED;RSVP=TRUE;CN="AACA Mus
 eum":https://northeastwheelsevents.com/profile/AACAMuseum941
END:VEVENT
END:VCALENDAR
