BEGIN:VCALENDAR
PRODID:NingEventWidget-v1
VERSION:2.0
METHOD:PUBLISH
BEGIN:VEVENT
UID:5167423:Event:297127
DTSTAMP:20260422T134720Z
SUMMARY:Central Pa. Corvair Club \"Corvair Day\" show
DESCRIPTION:Corvair Day Show\n\nFor more information visit https://nor
 theastwheelsevents.com/events/central-pa-corvair-club-corvair-day-show
DTSTART:20220917T040000Z
DTEND:20220918T035900Z
CATEGORIES:corvair, show
LOCATION:Eastern Museum of Motor Racing (EMMR)
WEBSITE:http://www.EMMR.com
URL:http://www.EMMR.com
CONTACT:717-668-4414
ORGANIZER;CN="Joe Darinsig":https://northeastwheelsevents.com/profile/
 JoeDarinsig415
ATTACH;FMTTYPE="image/jpeg":
ATTENDEE;ROLE=REQ-PARTICIPANT;PARTSTAT=ACCEPTED;RSVP=TRUE;CN="Joe Dari
 nsig":https://northeastwheelsevents.com/profile/JoeDarinsig415
END:VEVENT
END:VCALENDAR
