BEGIN:VCALENDAR
PRODID:NingEventWidget-v1
VERSION:2.0
METHOD:PUBLISH
BEGIN:VEVENT
UID:5167423:Event:562
DTSTAMP:20260424T021455Z
SUMMARY:Central PA Street Machines Car, Truck & Motorcycle Show Lock H
 aven
DESCRIPTION:33 classes with special category monetary awards as well a
 s plaque with picture of car for top three winners in each class. Show
  includes vendors, f ood, and crafts. Free admission and parking for s
 pectators.\n\nEvent Fees: $10 preregistration until July 1. $12 at sho
 w\n\nFor more information visit https://northeastwheelsevents.com/even
 ts/central-pa-street-machines-car-1
DTSTART:20100704T130000Z
DTEND:20100704T160000Z
CATEGORIES:car, show
LOCATION:Piper Memorial Airport
WEBSITE:http://www.centralpastreetmachines.org/
URL:http://www.centralpastreetmachines.org/
CONTACT:
ORGANIZER:Central PA Street Machines
ATTACH;FMTTYPE="image/jpeg":
ATTENDEE;ROLE=REQ-PARTICIPANT;PARTSTAT=ACCEPTED;RSVP=TRUE;CN="Richard 
 Scott":https://northeastwheelsevents.com/profile/RichardScott
END:VEVENT
END:VCALENDAR
