BEGIN:VCALENDAR
PRODID:NingEventWidget-v1
VERSION:2.0
METHOD:PUBLISH
BEGIN:VEVENT
UID:5167423:Event:77670
DTSTAMP:20260421T124015Z
SUMMARY:\"CENTURY OF SPEED\" 100 Yeas of Competition & Racing
DESCRIPTION:OYSTER BAY, NY--(Marketwired - June 02, 2015) - Collector 
 Car Showcase (www.collectorcs.com), the only museum/showcase devoted t
 o automotive memorabilia, Petroliana, and vintage cars in the metropol
 itan New York area, has announced that its next exhibit \"Century of S
 peed -- 100 Years of Racing and Competition Cars\" will debut on June 
 6.\nThis celebration will be on display through July at the 18,000-squ
 are-foot facility located at 85 Pine Hollow Road (aka Route 106) on th
 e southern approach to this historic North Shore Long Island Gold Coas
 t hamlet.\nThe new exhibit will succeed \"American Muscle Cars\", curr
 ently on display, and has Teachers Federal Credit Union as a principal
  sponsor. The Petroliana museum, as car aficionados liken it, is open 
 to the public daily from Tuesday-Saturday. It will feature an eclectic
  mix of competition race cars that have national and historic signific
 ance. A number of the cars displayed have been raced, owned, and resto
 red right here on Long Island.\nVintage race cars from 1908 to today c
 an be seen at any one time during the course of the exhibition, from a
  mix of 30-40 being rotated in, according to event curator Michael Lin
 dgren of Sea Cliff, NY, who is largely responsible for assembling the 
 show in partnership with Collector Car Showcase founder David Jacobson
 .\nThis gathering of international competition racers will salute the 
 past century of auto racing. Diverse offerings from Formula race cars,
  historic stock cars, vintage road racing, midgets, drag cars to open 
 wheel road course racers will be on display.\n\nFor more information v
 isit https://northeastwheelsevents.com/events/century-of-speed-100-yea
 s-of-competition-racing
DTSTART:20150612T040000Z
DTEND:20150804T035900Z
CATEGORIES:museum, exhibit
LOCATION:Collector Car Showcase
WEBSITE:http://www.collectorcs.com
URL:http://www.collectorcs.com
CONTACT:516-802-5297
ORGANIZER;CN="Bobby Sands":https://northeastwheelsevents.com/profile/B
 obbySands
ATTACH;FMTTYPE="image/jpeg":http://storage.ning.com/topology/rest/1.0/
 file/get/2284072745?profile=original
ATTENDEE;ROLE=REQ-PARTICIPANT;PARTSTAT=ACCEPTED;RSVP=TRUE;CN="Bobby Sa
 nds":https://northeastwheelsevents.com/profile/BobbySands
END:VEVENT
END:VCALENDAR
