BEGIN:VCALENDAR
PRODID:NingEventWidget-v1
VERSION:2.0
METHOD:PUBLISH
BEGIN:VEVENT
UID:5167423:Event:150399
DTSTAMP:20260420T202544Z
SUMMARY:CF CHARITIES 2017 SUPER CAR SHOW
DESCRIPTION:Check out over 400 of the hottest super cars on display fo
 r a great cause! This show features the best of ultra-high-performance
  sports cars or grand tourers from all over the United States, and inf
 uses special family-friendly activities, driving simulators, test expe
 riences and live entertainment.\n\nFor more information visit https://
 northeastwheelsevents.com/events/cf-charities-2017-super-car-show
DTSTART:20170611T140000Z
DTEND:20170611T180000Z
CATEGORIES:super, car, show
LOCATION:Wells Fargo Center
WEBSITE:https://cfcharities.org/supercar/
URL:https://cfcharities.org/supercar/
CONTACT:267-927-5003
ORGANIZER:John Suggs
ATTACH;FMTTYPE="image/jpeg":http://storage.ning.com/topology/rest/1.0/
 file/get/2284099086?profile=original
ATTENDEE;ROLE=REQ-PARTICIPANT;PARTSTAT=ACCEPTED;RSVP=TRUE;CN="Lisa Cha
 ppell":https://northeastwheelsevents.com/profile/LisaChappell
END:VEVENT
END:VCALENDAR
