BEGIN:VCALENDAR
PRODID:NingEventWidget-v1
VERSION:2.0
METHOD:PUBLISH
BEGIN:VEVENT
UID:5167423:Event:318183
DTSTAMP:20260422T221413Z
SUMMARY:CHALICE
DESCRIPTION:open to all competitors. \nfood.\nraffle50/50.\n\n\nFor m
 ore information visit https://northeastwheelsevents.com/events/chalice
DTSTART:20230909T190000Z
DTEND:20230910T010000Z
CATEGORIES:carshow
LOCATION:Carlo's Gourmet Pizza
WEBSITE:
URL:
CONTACT:9087705786
ORGANIZER;CN=boogie:https://northeastwheelsevents.com/profile/boogie
ATTACH;FMTTYPE="image/jpeg":https://storage.ning.com/topology/rest/1.0
 /file/get/12177856881?profile=original
ATTENDEE;ROLE=REQ-PARTICIPANT;PARTSTAT=ACCEPTED;RSVP=TRUE;CN=boogie:ht
 tps://northeastwheelsevents.com/profile/boogie
END:VEVENT
END:VCALENDAR
