BEGIN:VCALENDAR
PRODID:NingEventWidget-v1
VERSION:2.0
METHOD:PUBLISH
BEGIN:VEVENT
UID:5167423:Event:62552
DTSTAMP:20260421T143949Z
SUMMARY:CHAMPTRUCK WORLD SERIES & CHUMPCAR WORLD SERIES – APRIL 26
DESCRIPTION:ChampTruck World Series is North America’s home for REAL
 , AFFORDABLE, COMPETITIVE big-rig truck road racing. We’re talking r
 eal racing, real tracks and real big trucks! We’re talking six-wheel
  drifts and lots of gear-jammin’ action! And we’re proud to say th
 at ChampTruck is open and available to anyone, without prior racing ex
 perience!\nChumpCar World Series was developed for gear-heads; for peo
 ple who love driving and driving fast. It’s not about gimmicks or th
 eatrics. It’s not about spending buckets of money, either. Rather, i
 t’s for Chumps like you that have always wanted to go road racing wi
 thout all the hassles or huge rule books or obscene expense. It’s ab
 out ‘Joe Average’ and almost-race-ready cars.\n\nFor more informat
 ion visit https://northeastwheelsevents.com/events/champtruck-world-se
 ries-chumpcar-world-series-april-26
DTSTART:20150426T120000Z
DTEND:20150426T230000Z
CATEGORIES:endurance, race
LOCATION:New Jersey Motorsports Park
WEBSITE:http://www.njmp.com
URL:http://www.njmp.com
CONTACT:856-327-7256
ORGANIZER;CN="Megan Varrell":https://northeastwheelsevents.com/profile
 /MeganVarrell
ATTACH;FMTTYPE="image/jpeg":http://storage.ning.com/topology/rest/1.0/
 file/get/2284065202?profile=original
ATTENDEE;ROLE=REQ-PARTICIPANT;PARTSTAT=ACCEPTED;RSVP=TRUE;CN="Megan Va
 rrell":https://northeastwheelsevents.com/profile/MeganVarrell
END:VEVENT
END:VCALENDAR
