BEGIN:VCALENDAR
PRODID:NingEventWidget-v1
VERSION:2.0
METHOD:PUBLISH
BEGIN:VEVENT
UID:5167423:Event:327032
DTSTAMP:20260421T060654Z
SUMMARY:CHARIOTS OF FIRE CAR SHOW
DESCRIPTION:DON'T MISS THIS FUN IN THE SUN EVENT. 80 TROPHIES AWARDED 
 BY PEOPLES CHOICE BALLOTS TO TWENTY CLASSES OF CARS,TRUCKS AND M.C.s. 
 REGISTRATION $20. PLUS TWO NON-PERISHABLE FOOD ITEMS FOR THE FOOD BANK
 . TOUR THE FARMERS MARKET FOR THE BEST FOOD AND PRODUCTS FOUND ANYWHER
 E. GREAT GOODIE BAGS  LIVE BAND CALLED \"FORGIVEN\" ,DOOR PRIZES TOO.
  TELL YOUR FRIENDS AND PACK THEM IN. ( RAIN DATE JULY 20 ) \n\nFor mo
 re information visit https://northeastwheelsevents.com/events/chariots
 -of-fire-car-show-10
DTSTART:20240713T140000Z
DTEND:20240713T180000Z
CATEGORIES:car, show
LOCATION:BOOTHS CORNER FARMERS MARKET
WEBSITE:
URL:
CONTACT:610-322-1622
ORGANIZER;CN="PASTOR LAWRENCE WEED":https://northeastwheelsevents.com/
 profile/PASTORLAWRENCEWEED
ATTACH;FMTTYPE="image/jpeg":https://storage.ning.com/topology/rest/1.0
 /file/get/12213172885?profile=original
ATTENDEE;ROLE=REQ-PARTICIPANT;PARTSTAT=ACCEPTED;RSVP=TRUE;CN="PASTOR L
 AWRENCE WEED":https://northeastwheelsevents.com/profile/PASTORLAWRENCE
 WEED
END:VEVENT
END:VCALENDAR
