BEGIN:VCALENDAR
PRODID:NingEventWidget-v1
VERSION:2.0
METHOD:PUBLISH
BEGIN:VEVENT
UID:5167423:Event:348085
DTSTAMP:20260425T090251Z
SUMMARY:CHARIOTS OF FIRE CAR SHOW
DESCRIPTION:THE DAY BEFORE FATHER'S DAY.WE HONOR ALL FATHERS,PAST ,PRE
 SENT AND FUTURE. WE'VE ALL INHERITED OUR CAR D.N.A. FROM DAD OR FATHER
  FIGURES. OVER 100 TROPHIES WILL BE AWARDED BY PEOPLES CHOICE BALLOTIN
 G IN 20 CLASSES OF  CARS,TRUCKS AND MOTOR CYCLES. ALL WELCOME. THE CL
 ASSIC AUTO MALL WILL BE OPEN AT 9 TO NOON. OUR REGISTRATION IS $ 20. P
 LUS TWO NON-PERISHABLE ITEMS  FOR THE FOOD BANK.OUR RETURN POLICY  A
 LWAYS APPLIES \" ATTEND ONE OF OUR CAR SHOWS AND YOU'LL ATTEND AGAIN A
 ND AGAIN. BRING A DAD .   ( RAIN DATE JUNE 20 )\n\nFor more informat
 ion visit https://northeastwheelsevents.com/events/chariots-of-fire-ca
 r-show-15
DTSTART:20260613T140000Z
DTEND:20260613T190000Z
CATEGORIES:car, show
LOCATION:THE CLASSIC AUTO MALL- MORGANTOWN PA.19543
WEBSITE:
URL:
CONTACT:610-322-1622
ORGANIZER;CN="PASTOR LAWRENCE WEED":https://northeastwheelsevents.com/
 profile/PASTORLAWRENCEWEED
ATTACH;FMTTYPE="image/jpeg":https://storage.ning.com/topology/rest/1.0
 /file/get/12213172885?profile=original
ATTENDEE;ROLE=REQ-PARTICIPANT;PARTSTAT=ACCEPTED;RSVP=TRUE;CN="PASTOR L
 AWRENCE WEED":https://northeastwheelsevents.com/profile/PASTORLAWRENCE
 WEED
END:VEVENT
END:VCALENDAR
