BEGIN:VCALENDAR
PRODID:NingEventWidget-v1
VERSION:2.0
METHOD:PUBLISH
BEGIN:VEVENT
UID:5167423:Event:239378
DTSTAMP:20260422T191104Z
SUMMARY:CHARIOTS OF FIRE CAR SHOW-BOOTHS CORNER FARMERS MARKET
DESCRIPTION:THE DAY BEFORE FATHER'S DAY WE HONOR ALL FATHERS. REG. $15
 . PLUS TWO NON-PERISHABLE FOOD ITEMS FOR THE FOOD BANK. OVER 60 TROPHI
 ES AWARDED BY PEOPLES CHOICE BALLOTING . BRING THE LADIES FOR A GREAT 
 DAY OF SHOPPING AND GOOD EATING .PHOTOS OF YOUR CAR . (RAIN DATE JUNE 
 22 ) ALL CLASSES WELCOME. OUR RETURN POLICY- ATTEND ONE OF OUR CAR SHO
 WS AND YOU'LL RETURN AGAIN AND AGAIN.\n\nFor more information visit ht
 tps://northeastwheelsevents.com/events/chariots-of-fire-car-show-booth
 s-corner-farmers-market
DTSTART:20190615T140000Z
DTEND:20190615T180000Z
CATEGORIES:car, show
LOCATION:BOOTHS CORNER FARMERS MARKET
WEBSITE:http://CHARIOTS-OF-FIRE.ORG.
URL:http://CHARIOTS-OF-FIRE.ORG.
CONTACT:610-322-1622
ORGANIZER;CN="PASTOR LAWRENCE WEED":https://northeastwheelsevents.com/
 profile/PASTORLAWRENCEWEED
ATTACH;FMTTYPE="image/jpeg":https://storage.ning.com/topology/rest/1.0
 /file/get/1323801805?profile=original
ATTENDEE;ROLE=REQ-PARTICIPANT;PARTSTAT=ACCEPTED;RSVP=TRUE;CN="PASTOR L
 AWRENCE WEED":https://northeastwheelsevents.com/profile/PASTORLAWRENCE
 WEED
END:VEVENT
END:VCALENDAR
