BEGIN:VCALENDAR
PRODID:NingEventWidget-v1
VERSION:2.0
METHOD:PUBLISH
BEGIN:VEVENT
UID:5167423:Event:39895
DTSTAMP:20260424T055925Z
SUMMARY:CHARIOTS OF FIRE CAR SHOW-GRANITE RUN MALL
DESCRIPTION:JUNE 14 TH. WE HONOR ALL FATHERS THE DAY BEFORE FATHER'S D
 AY.10 AM-3PM,REGISTRATION $15. T-SHIRTS TO ALL REGISTERED DRIVERS,OVER
  60 TROPHIES AWARDED BY PEOPLES CHOICE BALLOTING,20 CLASSES OF ALL CAR
 S,TRUCKS & MOTORCYCLES. IF IT'S HOT ,YOU'VE GOT A SPOT.MALL LOCATED AT
  RT.1 & RT.352 MEDIA,PA. WEB.CHARIOTS-OF-FIRE.ORG  INFO. 610-322-1622
   (RAIN DATE JUNE 21)\n\nFor more information visit https://northeast
 wheelsevents.com/events/chariots-of-fire-car-show-granite-run-mall
DTSTART:20140614T140000Z
DTEND:20140614T190000Z
CATEGORIES:car, show
LOCATION:GRANITE RUN MALL-RT 1 & RT. 352
WEBSITE:http://CHARIOTS-OF-FIRE.ORG
URL:http://CHARIOTS-OF-FIRE.ORG
CONTACT:610-322-1622
ORGANIZER;CN="PASTOR LAWRENCE WEED":https://northeastwheelsevents.com/
 profile/PASTORLAWRENCEWEED
ATTACH;FMTTYPE="image/jpeg":
ATTENDEE;ROLE=REQ-PARTICIPANT;PARTSTAT=ACCEPTED;RSVP=TRUE;CN="PASTOR L
 AWRENCE WEED":https://northeastwheelsevents.com/profile/PASTORLAWRENCE
 WEED
END:VEVENT
END:VCALENDAR
