BEGIN:VCALENDAR
PRODID:NingEventWidget-v1
VERSION:2.0
METHOD:PUBLISH
BEGIN:VEVENT
UID:5167423:Event:239374
DTSTAMP:20260422T030955Z
SUMMARY:CHARIOTS OF FIRE CAR SHOW-LANCASTER COUNTY
DESCRIPTION:SATURDAY- MAY 18 TH. IS THE DAY FOR THIS YEAR'S EVENT . RE
 G. $15. PLUS TWO NON-PERISHABLE FOOD ITEMS FOR THE FOOD BANK . OVER SI
 XTY TROPHIES WILL BE AWARDED BY PEOPLE'S CHOICE BALLOTING .ALL CLASSES
  AND YEARS OF CARS ,TRUCKS AND M.C. ARE WELCOME. GOODIE BAGS,DOOR PRIZ
 ES, CAR PHOTOS AND RIDE UP TO THE HEIGHTS ON THE FIRE TRUCK LIFT. (RAI
 N DATE MAY 25 ) WE HAVE A RETURN POLICY- ATTEND ONE OF OUR CAR SHOWS A
 ND YOU'LL RETURN AGAIN AND AGAIN .\n\n\nFor more information visit htt
 ps://northeastwheelsevents.com/events/chariots-of-fire-car-show-lancas
 ter-county
DTSTART:20190518T140000Z
DTEND:20190518T190000Z
CATEGORIES:car, show
LOCATION:LIGHTHOUSE ASSEMBLY
WEBSITE:http://CHARIOTS-OF-FIRE.ORG.
URL:http://CHARIOTS-OF-FIRE.ORG.
CONTACT:610-322-1622
ORGANIZER;CN="PASTOR LAWRENCE WEED":https://northeastwheelsevents.com/
 profile/PASTORLAWRENCEWEED
ATTACH;FMTTYPE="image/jpeg":https://storage.ning.com/topology/rest/1.0
 /file/get/1323642108?profile=original
ATTENDEE;ROLE=REQ-PARTICIPANT;PARTSTAT=ACCEPTED;RSVP=TRUE;CN="PASTOR L
 AWRENCE WEED":https://northeastwheelsevents.com/profile/PASTORLAWRENCE
 WEED
ATTENDEE;ROLE=REQ-PARTICIPANT;PARTSTAT=TENTATIVE;RSVP=TRUE;CN="Blaine 
 McKivison":https://northeastwheelsevents.com/profile/BlaineMcKivison
END:VEVENT
END:VCALENDAR
